BEGIN:VCALENDAR
VERSION:2.0
PRODID:https://www.dvojka.eu
BEGIN:VEVENT
UID:69e672da395ee
DTSTART:20240706T063000Z
SEQUENCE:0
TRANSP:OPAQUE
DTEND:20240720T130000Z
URL:https://www.dvojka.eu/akce/589
SUMMARY:Junák - Tábor Březí 2024  (přihlašování: Podsadáři)
CLASS:PUBLIC
DESCRIPTION:Vážení rodiče\,i letos pro své členy pořádá II. oddíl
  Junáka Šlapanice letní tábor. Tábořit budeme na stejném místě ja
 ko loni\, v katastru obce Březí nedaleko Žďáru nad Sázavou. Tábor z
 ačíná 2. 7. 2024 v 8:30 odjezdem skautů a skautek se splněnou tábo
 rnickou zkouškou od Boudy\, 6. 7. 2024 v 8:30 odjíždí ostatní člen
 ové oddílu od Boudy a končí 20. 7. 2024 ve 15:00 pro mladší\, pro 
 starší až budou uskladněny všechny táborové věci. Na táboře spí
  mladší táborníci po dvou ve stanech s podsadou\, starší ve stanech
  tee-pee.\n \nInformace o ceně tábora:V ceně tábora je zahrnuta strav
 a 5x denně\, doprava osob a materiálu\, náklady na provoz tábořiště
 \, náklady na přípravu programu\, vstupné (koupaliště\, lezecké cen
 trum\, atp.)\, táborové vybavení a další. Cena tábora byla v letoš
 ním roce stanovena na 5 000 Kč\, v případě sourozenců je cena za ka
 ždého dalšího 4 500 Kč. Pokyny k platbě naleznete výše.\n \nDů
 ležité pro rodiče:Zákonný zástupce se přihlášením na tábor zava
 zuje k odevzdání posudku o zdravotní způsobilosti dítěte (dle § 
 9 odst. 3 zákona č. 258/2000 Sb.\, o ochraně veřejného zdraví) a sou
 hlasu s poskytováním informací o zdravotním stavu dítěte.Zákonný 
 zástupce bere na vědomí\, že jeho dítě se účastní tábora ve vyme
 zené délce. Bez brzkých odjezdů\, či pozdních příjezdů (výjimky 
 možné pouze ze zdravotních důvodů).Zákonný zástupce dále bere na 
 vědomí\, že neodevzdání dokumentů uvedených výše\, či nezaplacen
 í tábora v daném termínu\, může znemožnit odjezd dítěte na tábor
 .Dále bere na vědomí\, že dítě je povinno dodržovat táborový řá
 d. Jeho opakované porušení může vést k vyloučení dítěte z táb
 ora bez nároku na vrácení peněz.Dále je srozuměn s individuálním 
 řešením storno poplatku se svým družinovým vedoucím v případě\, 
 že se dítě nebude moci z vážných důvodů zúčastnit již zaplacen
 ého tábora.A nakonec bere na vědomí\, že zpracovávání osobních ú
 dajů v rámci tábora\, se řídí podle podmínek v přihlášce či j
 ejí aktualizací.\n \nPřihlášením dítěte v systému DvojkIS záva
 zně přihlašuji svoje dítě na tábor.
DTSTAMP:20260420T183922Z
END:VEVENT
END:VCALENDAR