BEGIN:VCALENDAR
VERSION:2.0
PRODID:https://www.dvojka.eu
BEGIN:VEVENT
UID:69e5f4d56ba62
DTSTART:20250912T140000Z
SEQUENCE:0
TRANSP:OPAQUE
DTEND:20250912T160000Z
URL:https://www.dvojka.eu/akce/815
SUMMARY:Junák - Zahajovací oddílová schůzka 
CLASS:PUBLIC
DESCRIPTION:Zahajovací oddílová shůzka se týká všech Šlapanických 
 členů. První setkání po prázdninách a start podzimní činnosti! P
 řijďte prosím v kroji nebo v táborovém triku se šátkem. 
DTSTAMP:20260420T094141Z
END:VEVENT
END:VCALENDAR