BEGIN:VCALENDAR
VERSION:2.0
PRODID:https://www.dvojka.eu
BEGIN:VEVENT
UID:69e5f4d4cc895
DTSTART:20260307T080000Z
SEQUENCE:0
TRANSP:OPAQUE
DTEND:20260307T160000Z
URL:https://www.dvojka.eu/akce/818
SUMMARY:Junák - Doškolovák Šlapanice
CLASS:PUBLIC
DESCRIPTION:Doškolovací zdravotnický kurz\, kapacita je 24 osob\, hlási
 t se můžete e-mailem u Jury. Jméno\, příjmení\, středisko\, kde jsi
  absolovoval/a ZK a kdy. Účastnický poplatek činí 350 Kč. Akce je ka
 pacitou naplněna\, další přihlášky už se nepřijímají.
DTSTAMP:20260420T094140Z
END:VEVENT
END:VCALENDAR