BEGIN:VCALENDAR
VERSION:2.0
PRODID:https://www.dvojka.eu
BEGIN:VEVENT
UID:69e5f4d553b0d
DTSTART:20251003T180000Z
SEQUENCE:0
TRANSP:OPAQUE
DTEND:20251004T150000Z
URL:https://www.dvojka.eu/akce/847
SUMMARY:Junák - Lachtaní výprava do obory Holedná
CLASS:PUBLIC
DESCRIPTION:V pátek večer se sejdeme na Boudě a pustíme si film. V sobo
 tu ráno vyrazíme do obory Holedná\, odhadovaný návrat na Boudu v 17:0
 0. S sebou jídlo a pití\, vhodné oblečení a obuv\, 2x jízdenka na 3 
 zóny\, spacák\, kartáček a pasta\, kapesné.
DTSTAMP:20260420T094141Z
END:VEVENT
END:VCALENDAR