BEGIN:VCALENDAR
VERSION:2.0
PRODID:https://www.dvojka.eu
BEGIN:VEVENT
UID:69e588615fe09
DTSTART:20260424T160000Z
SEQUENCE:0
TRANSP:OPAQUE
DTEND:20260426T130000Z
URL:https://www.dvojka.eu/akce/890
SUMMARY:Junák - Ivančena
CLASS:PUBLIC
DESCRIPTION:Ve dnech 24.-26.4. vyrazíme již tradičně se staršími dru
 žinami na památník Ivančena\, kde probíhá každoroční setkání sk
 autů a skautek k uctění památky popravených skautů. Poté vyšlápne
 me na Lysou horu. Přespání je zajištěno na Hukvaldské myslivně. Po
 čítáme s účastí přihlášených členů.\n \nSraz: pátek 24.4. v 
 18:20 na zastávce Kalvodova (trolejbus jede 18:29) nebo 18:50 na Hlavním
  nádraží (vlak odjíždí 19:02)\nNávrat: neděle 26.4. v 13:35 na Kal
 vodovu do Šlapanic\n \nSe sebou: pevnou obuv\, teplé oblečení (na Lys
 é hoře může být chladněji)\, kroj\, šátek\, spacák\, karimatku\, 
 hygienické potřeby\, přezůvky\, pláštěnku\, pití\, jídlo dle uvá
 žení na celý víkend\, kapesné a obvyklé věci na výpravu (deník\, 
 tužku\, uzlovačku\, kpz\, nůž...)\, 2 jízdenky na 3 zóny\, 500 Kč (
 ubytování + doprava)\, malý batůžek.....vše sbalit do krosny :)\n \
 nRada starších
DTSTAMP:20260420T015857Z
END:VEVENT
END:VCALENDAR