BEGIN:VCALENDAR
VERSION:2.0
PRODID:https://www.dvojka.eu
BEGIN:VEVENT
UID:69e617eb0992b
DTSTART:20260306T190000Z
SEQUENCE:0
TRANSP:OPAQUE
DTEND:20260307T140000Z
URL:https://www.dvojka.eu/akce/913
SUMMARY:Junák - Žraločí přespávačka
CLASS:PUBLIC
DESCRIPTION:V pátek v osm hodin se sejdeme na Boudě.\nMrkneme se na film 
 a zharajeme nějaké hry a druhý den vyrazíme na discgolf.\nAkci ukonč
 íme okolo 14té hodiny na Boudě.\nS sebou: spacák\, hygienu\, pohodlnou
  obuv\, oblečení odpovídající počasí\, jídlo\, pití\, dvě jízde
 nky na 3 zóny a dobrou náladu :-)\nTěšíme se na vás\,\nTerka a Krysa
 řík
DTSTAMP:20260420T121123Z
END:VEVENT
END:VCALENDAR