BEGIN:VCALENDAR
VERSION:2.0
PRODID:https://www.dvojka.eu
BEGIN:VEVENT
UID:69e9db2b6a292
DTSTART:20260307T150000Z
SEQUENCE:0
TRANSP:OPAQUE
DTEND:20260308T100000Z
URL:https://www.dvojka.eu/akce/916
SUMMARY:Junák - Lasičky v Absurdiu
CLASS:PUBLIC
DESCRIPTION:Dobrý den\,v sobotu 7.3. se s Lasičkami vydáme do muzea Absu
 rdium v Brně. Jedná se o muzeum iluzí s ukázkou a interaktivním vyzko
 ušením. Poté budeme spát na boudě a pustíme si táborový film z toh
 oto roku.\nSraz: Sobota 7.3. 16:00Konec: Neděle 8.3. 11:00\nS sebou: 190k
 č na vstup\, 2x jízdenka na Hlavní nádraží\, spacák\, hygiena\, obl
 ečení na spaní\, telefon/foťák (holky měly zájem o focení v muzeu\
 , s tím problém nemáme ale telefony na boudě přes noc vybereme \;D ) 
 Svačina\, Něco na večeři na boudu (máme mikrovlnku i rychlovarnou kon
 vici)\, Snídani.\nDěkujeme\,Vedoucí Lasiček
DTSTAMP:20260423T084115Z
END:VEVENT
END:VCALENDAR