BEGIN:VCALENDAR
VERSION:2.0
PRODID:https://www.dvojka.eu
BEGIN:VEVENT
UID:69e640e322ae8
DTSTART:20260425T050000Z
SEQUENCE:0
TRANSP:OPAQUE
DTEND:20260425T170000Z
URL:https://www.dvojka.eu/akce/927
SUMMARY:Junák - Havrani Závod vlčat a světlušek
CLASS:PUBLIC
DESCRIPTION:Závod vlčat a světlušek Havrani.\n \nInfo k Závodům Vlč
 at a Světlušek Židlochovice\n \n \nPotkáme se 25.4. ráno v 7:50 a z
 astávce Šlapanice (vlak u sídliště). Vlak odjíždí 8:02 tak přijď
 te raději s předstihem.\n \nCo s sebou:\n! 2x jízdenka na 5 zón (610\
 , 100\, 101 + 2 zóny) ! \n„Omlouváme se dopsáno zpětně\"\nSkautsk
 ý kroj nebo triko + skautský šátek\nZápisník a tužku\nLáhev s vodo
 u\nPláštěnku\nSvačinu na celý den\nPevné boty\nOblečení dle počas
 í vč. pokrývky hlavy\nKPZ - (doporučená výbava: svíčka\, zápalky 
 a škrtátko/křesadlo\, papír\, tužka\, nožík/žiletka/nůžtičky\, 
 připínáčky\, pár hřebíků\, provázek/drát\, gumičky). Dá se lib
 ovolně přizpůsobit.\n \nKonec v 18:00 na zastávce Kalvodova ve Šlapa
 nicích\,\n \nKenny a Tesák
DTSTAMP:20260420T150611Z
END:VEVENT
END:VCALENDAR