BEGIN:VCALENDAR
VERSION:2.0
PRODID:https://www.dvojka.eu
BEGIN:VEVENT
UID:69e5886262178
DTSTART:20260424T160000Z
SEQUENCE:0
TRANSP:OPAQUE
DTEND:20260425T170000Z
URL:https://www.dvojka.eu/akce/936
SUMMARY:Junák - ZVaS Jestřábi
CLASS:PUBLIC
DESCRIPTION:Po schzúzce zústají učastníci závodu na boudě kde přesp
 íme a ráno pojedeme do Židlochovic\, kde se koná závod. Konec akce bu
 de v 19:00 na boudě.\nS sebou: spácák\, 2x jízdenka na 5 zón\, snída
 ně\, skautský kroj nebo triko + šátek\, zápisník a tužku\, lahev s 
 vodou\, pláštěnku\, svačinu na celý den\, pevné boty\, oblečení dl
 e počasí vč. pokrývky hlavy\, KPZ (doporučená výbava: svíčka\, z
 ápalky a škrtátko/ křesadlo\, kousíček papíru\, pisátko\, nožík/
 žiletka/nůžtičky\, připínáčky\, pár hřebíků\, provázek/drát\
 , gumičky)\n 
DTSTAMP:20260420T015858Z
END:VEVENT
END:VCALENDAR