BEGIN:VCALENDAR
VERSION:2.0
PRODID:https://www.dvojka.eu
BEGIN:VEVENT
UID:69e58861d661b
DTSTART:20260425T050000Z
SEQUENCE:0
TRANSP:OPAQUE
DTEND:20260425T160000Z
URL:https://www.dvojka.eu/akce/938
SUMMARY:Junák - Lachtani ZVaS
CLASS:PUBLIC
DESCRIPTION:Sraz bude v sobotu 25. dubna ráno na zastávce Kalvodova ve Š
 lapanicích\, následně se trolejbusem a vlakem přesuneme do Židlochovi
 c\, kde bude závod probíhat. Konec akce bude v odpoledních hodinách op
 ět na zastávce Kalvodova.\nČasy jsou pouze orientační a budou včas u
 přesněny.\nS sebou: skautský kroj nebo triko + šátek\, deník a tužk
 u\, lahev s vodou\, pláštěnku\, svačinu na celý den\, pevné boty\, o
 blečení dle počasí vč. pokrývky hlavy\, KPZ (doporučená výbava: s
 víčka\, zápalky a škrtátko\, kousíček papíru\, pisátko\, nožík\
 , připínáčky\, pár hřebíků\, provázek\, gumičky)\, 2x jízdenka 
 na 5 zón\, 100 Kč jako startovné.\n 
DTSTAMP:20260420T015857Z
END:VEVENT
END:VCALENDAR